Package: gtrellis
Version: 1.30.0
Command: /Library/Frameworks/R.framework/Resources/bin/R CMD build --keep-empty-dirs --no-resave-data gtrellis
StartedAt: 2023-04-17 09:36:06 -0400 (Mon, 17 Apr 2023)
EndedAt: 2023-04-17 09:38:52 -0400 (Mon, 17 Apr 2023)
EllapsedTime: 166.6 seconds
RetCode: 0
Status: OK
PackageFile: gtrellis_1.30.0.tar.gz
PackageFileSize: 1.944 <A href="http://en.wikipedia.org/wiki/MiB" target="_blank">MiB</A>