Package: gpls Version: 1.70.0 Command: rm -rf gpls.buildbin-libdir && mkdir gpls.buildbin-libdir && /Users/biocbuild/BBS/utils/build-universal.sh gpls_1.70.0.tar.gz /Library/Frameworks/R.framework/Resources/bin/R gpls.buildbin-libdir StartedAt: 2023-04-18 16:15:57 -0400 (Tue, 18 Apr 2023) EndedAt: 2023-04-18 16:16:06 -0400 (Tue, 18 Apr 2023) EllapsedTime: 8.9 seconds RetCode: 0 Status: OK PackageFile: gpls_1.70.0.tgz PackageFileSize: 293.5 KiB