git_url: https://git.bioconductor.org/packages/gpls git_branch: RELEASE_3_16 git_last_commit: e33d171 git_last_commit_date: 2022-11-01 10:35:58 -0400 (Tue, 01 Nov 2022) Package: gpls Version: 1.70.0 Maintainer: Bioconductor Package Maintainer MaintainerEmail: maintainer at bioconductor.org