Package: geneAttribution Version: 1.24.0 Command: /Library/Frameworks/R.framework/Resources/bin/R CMD build --keep-empty-dirs --no-resave-data geneAttribution StartedAt: 2023-04-17 07:18:12 -0400 (Mon, 17 Apr 2023) EndedAt: 2023-04-17 07:18:52 -0400 (Mon, 17 Apr 2023) EllapsedTime: 40.3 seconds RetCode: 0 Status: OK PackageFile: geneAttribution_1.24.0.tar.gz PackageFileSize: 39.19 KiB