Package: geneAttribution
Version: 1.24.0
Command: rm -rf geneAttribution.buildbin-libdir && mkdir geneAttribution.buildbin-libdir && /Users/biocbuild/BBS/utils/build-universal.sh geneAttribution_1.24.0.tar.gz /Library/Frameworks/R.framework/Resources/bin/R geneAttribution.buildbin-libdir
StartedAt: 2023-04-18 15:58:24 -0400 (Tue, 18 Apr 2023)
EndedAt: 2023-04-18 15:59:39 -0400 (Tue, 18 Apr 2023)
EllapsedTime: 75.6 seconds
RetCode: 0
Status: OK
PackageFile: geneAttribution_1.24.0.tgz
PackageFileSize: 63.9 <A href="http://en.wikipedia.org/wiki/KiB" target="_blank">KiB</A>