Package: gdsfmt Version: 1.34.1 Command: /Library/Frameworks/R.framework/Resources/bin/R CMD INSTALL gdsfmt StartedAt: 2023-04-16 14:11:24 -0400 (Sun, 16 Apr 2023) EndedAt: 2023-04-16 14:15:58 -0400 (Sun, 16 Apr 2023) EllapsedTime: 274.2 seconds RetCode: 0 Status: OK