Package: gaga Version: 2.44.0 Command: rm -rf gaga.buildbin-libdir && mkdir gaga.buildbin-libdir && /Users/biocbuild/BBS/utils/build-universal.sh gaga_2.44.0.tar.gz /Library/Frameworks/R.framework/Resources/bin/R gaga.buildbin-libdir StartedAt: 2023-04-18 15:54:40 -0400 (Tue, 18 Apr 2023) EndedAt: 2023-04-18 15:55:16 -0400 (Tue, 18 Apr 2023) EllapsedTime: 35.6 seconds RetCode: 0 Status: OK PackageFile: gaga_2.44.0.tgz PackageFileSize: 763.3 KiB