Package: flowViz Version: 1.62.0 Command: /Library/Frameworks/R.framework/Resources/bin/R CMD build --keep-empty-dirs --no-resave-data flowViz StartedAt: 2023-04-17 06:49:36 -0400 (Mon, 17 Apr 2023) EndedAt: 2023-04-17 06:51:00 -0400 (Mon, 17 Apr 2023) EllapsedTime: 84.2 seconds RetCode: 0 Status: OK PackageFile: flowViz_1.62.0.tar.gz PackageFileSize: 903.1 KiB