Package: fgsea Version: 1.24.0 Command: /Library/Frameworks/R.framework/Resources/bin/R CMD INSTALL fgsea StartedAt: 2023-04-16 15:09:14 -0400 (Sun, 16 Apr 2023) EndedAt: 2023-04-16 15:10:22 -0400 (Sun, 16 Apr 2023) EllapsedTime: 68.0 seconds RetCode: 0 Status: OK