############################################################################## ############################################################################## ### ### Running command: ### ### /Library/Frameworks/R.framework/Resources/bin/R CMD INSTALL fgsea ### ############################################################################## ############################################################################## * installing to library ‘/Library/Frameworks/R.framework/Versions/4.2-arm64/Resources/library’ * installing *source* package ‘fgsea’ ... ** using staged installation ** libs clang++ -arch arm64 -std=gnu++11 -I"/Library/Frameworks/R.framework/Resources/include" -DNDEBUG -I'/Library/Frameworks/R.framework/Versions/4.2-arm64/Resources/library/Rcpp/include' -I'/Library/Frameworks/R.framework/Versions/4.2-arm64/Resources/library/BH/include' -I/opt/R/arm64/include -fPIC -falign-functions=64 -Wall -g -O2 -c RcppExports.cpp -o RcppExports.o In file included from RcppExports.cpp:4: In file included from /Library/Frameworks/R.framework/Versions/4.2-arm64/Resources/library/Rcpp/include/Rcpp.h:27: In file included from /Library/Frameworks/R.framework/Versions/4.2-arm64/Resources/library/Rcpp/include/RcppCommon.h:168: /Library/Frameworks/R.framework/Versions/4.2-arm64/Resources/library/Rcpp/include/Rcpp/internal/r_coerce.h:255:7: warning: 'sprintf' is deprecated: This function is provided for compatibility reasons only. Due to security concerns inherent in the design of sprintf(3), it is highly recommended that you use snprintf(3) instead. [-Wdeprecated-declarations] ::sprintf(buff, "%02x", from); ^ /Library/Developer/CommandLineTools/SDKs/MacOSX.sdk/usr/include/stdio.h:188:1: note: 'sprintf' has been explicitly marked deprecated here __deprecated_msg("This function is provided for compatibility reasons only. Due to security concerns inherent in the design of sprintf(3), it is highly recommended that you use snprintf(3) instead.") ^ /Library/Developer/CommandLineTools/SDKs/MacOSX.sdk/usr/include/sys/cdefs.h:215:48: note: expanded from macro '__deprecated_msg' #define __deprecated_msg(_msg) __attribute__((__deprecated__(_msg))) ^ 1 warning generated. clang++ -arch arm64 -std=gnu++11 -I"/Library/Frameworks/R.framework/Resources/include" -DNDEBUG -I'/Library/Frameworks/R.framework/Versions/4.2-arm64/Resources/library/Rcpp/include' -I'/Library/Frameworks/R.framework/Versions/4.2-arm64/Resources/library/BH/include' -I/opt/R/arm64/include -fPIC -falign-functions=64 -Wall -g -O2 -c ScoreCalculation.cpp -o ScoreCalculation.o clang++ -arch arm64 -std=gnu++11 -I"/Library/Frameworks/R.framework/Resources/include" -DNDEBUG -I'/Library/Frameworks/R.framework/Versions/4.2-arm64/Resources/library/Rcpp/include' -I'/Library/Frameworks/R.framework/Versions/4.2-arm64/Resources/library/BH/include' -I/opt/R/arm64/include -fPIC -falign-functions=64 -Wall -g -O2 -c ScoreRuler.cpp -o ScoreRuler.o In file included from ScoreRuler.cpp:2: In file included from ./util.h:5: In file included from /Library/Frameworks/R.framework/Versions/4.2-arm64/Resources/library/BH/include/boost/math/special_functions/digamma.hpp:19: In file included from /Library/Frameworks/R.framework/Versions/4.2-arm64/Resources/library/BH/include/boost/math/policies/error_handling.hpp:23: In file included from /Library/Frameworks/R.framework/Versions/4.2-arm64/Resources/library/BH/include/boost/math/tools/throw_exception.hpp:13: In file included from /Library/Frameworks/R.framework/Versions/4.2-arm64/Resources/library/BH/include/boost/throw_exception.hpp:24: /Library/Frameworks/R.framework/Versions/4.2-arm64/Resources/library/BH/include/boost/assert/source_location.hpp:75:14: warning: 'sprintf' is deprecated: This function is provided for compatibility reasons only. Due to security concerns inherent in the design of sprintf(3), it is highly recommended that you use snprintf(3) instead. [-Wdeprecated-declarations] std::sprintf( buffer, ":%ld", static_cast( line() ) ); ^ /Library/Developer/CommandLineTools/SDKs/MacOSX.sdk/usr/include/stdio.h:188:1: note: 'sprintf' has been explicitly marked deprecated here __deprecated_msg("This function is provided for compatibility reasons only. Due to security concerns inherent in the design of sprintf(3), it is highly recommended that you use snprintf(3) instead.") ^ /Library/Developer/CommandLineTools/SDKs/MacOSX.sdk/usr/include/sys/cdefs.h:215:48: note: expanded from macro '__deprecated_msg' #define __deprecated_msg(_msg) __attribute__((__deprecated__(_msg))) ^ In file included from ScoreRuler.cpp:2: In file included from ./util.h:5: In file included from /Library/Frameworks/R.framework/Versions/4.2-arm64/Resources/library/BH/include/boost/math/special_functions/digamma.hpp:19: In file included from /Library/Frameworks/R.framework/Versions/4.2-arm64/Resources/library/BH/include/boost/math/policies/error_handling.hpp:23: In file included from /Library/Frameworks/R.framework/Versions/4.2-arm64/Resources/library/BH/include/boost/math/tools/throw_exception.hpp:13: In file included from /Library/Frameworks/R.framework/Versions/4.2-arm64/Resources/library/BH/include/boost/throw_exception.hpp:24: /Library/Frameworks/R.framework/Versions/4.2-arm64/Resources/library/BH/include/boost/assert/source_location.hpp:80:18: warning: 'sprintf' is deprecated: This function is provided for compatibility reasons only. Due to security concerns inherent in the design of sprintf(3), it is highly recommended that you use snprintf(3) instead. [-Wdeprecated-declarations] std::sprintf( buffer, ":%ld", static_cast( column() ) ); ^ /Library/Developer/CommandLineTools/SDKs/MacOSX.sdk/usr/include/stdio.h:188:1: note: 'sprintf' has been explicitly marked deprecated here __deprecated_msg("This function is provided for compatibility reasons only. Due to security concerns inherent in the design of sprintf(3), it is highly recommended that you use snprintf(3) instead.") ^ /Library/Developer/CommandLineTools/SDKs/MacOSX.sdk/usr/include/sys/cdefs.h:215:48: note: expanded from macro '__deprecated_msg' #define __deprecated_msg(_msg) __attribute__((__deprecated__(_msg))) ^ In file included from ScoreRuler.cpp:2: In file included from ./util.h:5: In file included from /Library/Frameworks/R.framework/Versions/4.2-arm64/Resources/library/BH/include/boost/math/special_functions/digamma.hpp:20: In file included from /Library/Frameworks/R.framework/Versions/4.2-arm64/Resources/library/BH/include/boost/math/constants/constants.hpp:14: In file included from /Library/Frameworks/R.framework/Versions/4.2-arm64/Resources/library/BH/include/boost/math/tools/convert_from_string.hpp:14: In file included from /Library/Frameworks/R.framework/Versions/4.2-arm64/Resources/library/BH/include/boost/math/tools/lexical_cast.hpp:12: In file included from /Library/Frameworks/R.framework/Versions/4.2-arm64/Resources/library/BH/include/boost/lexical_cast.hpp:32: In file included from /Library/Frameworks/R.framework/Versions/4.2-arm64/Resources/library/BH/include/boost/lexical_cast/try_lexical_convert.hpp:44: In file included from /Library/Frameworks/R.framework/Versions/4.2-arm64/Resources/library/BH/include/boost/lexical_cast/detail/converter_lexical.hpp:54: /Library/Frameworks/R.framework/Versions/4.2-arm64/Resources/library/BH/include/boost/lexical_cast/detail/converter_lexical_streams.hpp:285:21: warning: 'sprintf' is deprecated: This function is provided for compatibility reasons only. Due to security concerns inherent in the design of sprintf(3), it is highly recommended that you use snprintf(3) instead. [-Wdeprecated-declarations] sprintf(begin, ^ /Library/Developer/CommandLineTools/SDKs/MacOSX.sdk/usr/include/stdio.h:188:1: note: 'sprintf' has been explicitly marked deprecated here __deprecated_msg("This function is provided for compatibility reasons only. Due to security concerns inherent in the design of sprintf(3), it is highly recommended that you use snprintf(3) instead.") ^ /Library/Developer/CommandLineTools/SDKs/MacOSX.sdk/usr/include/sys/cdefs.h:215:48: note: expanded from macro '__deprecated_msg' #define __deprecated_msg(_msg) __attribute__((__deprecated__(_msg))) ^ In file included from ScoreRuler.cpp:2: In file included from ./util.h:5: In file included from /Library/Frameworks/R.framework/Versions/4.2-arm64/Resources/library/BH/include/boost/math/special_functions/digamma.hpp:20: In file included from /Library/Frameworks/R.framework/Versions/4.2-arm64/Resources/library/BH/include/boost/math/constants/constants.hpp:14: In file included from /Library/Frameworks/R.framework/Versions/4.2-arm64/Resources/library/BH/include/boost/math/tools/convert_from_string.hpp:14: In file included from /Library/Frameworks/R.framework/Versions/4.2-arm64/Resources/library/BH/include/boost/math/tools/lexical_cast.hpp:12: In file included from /Library/Frameworks/R.framework/Versions/4.2-arm64/Resources/library/BH/include/boost/lexical_cast.hpp:32: In file included from /Library/Frameworks/R.framework/Versions/4.2-arm64/Resources/library/BH/include/boost/lexical_cast/try_lexical_convert.hpp:44: In file included from /Library/Frameworks/R.framework/Versions/4.2-arm64/Resources/library/BH/include/boost/lexical_cast/detail/converter_lexical.hpp:54: /Library/Frameworks/R.framework/Versions/4.2-arm64/Resources/library/BH/include/boost/lexical_cast/detail/converter_lexical_streams.hpp:297:21: warning: 'sprintf' is deprecated: This function is provided for compatibility reasons only. Due to security concerns inherent in the design of sprintf(3), it is highly recommended that you use snprintf(3) instead. [-Wdeprecated-declarations] sprintf(begin, ^ /Library/Developer/CommandLineTools/SDKs/MacOSX.sdk/usr/include/stdio.h:188:1: note: 'sprintf' has been explicitly marked deprecated here __deprecated_msg("This function is provided for compatibility reasons only. Due to security concerns inherent in the design of sprintf(3), it is highly recommended that you use snprintf(3) instead.") ^ /Library/Developer/CommandLineTools/SDKs/MacOSX.sdk/usr/include/sys/cdefs.h:215:48: note: expanded from macro '__deprecated_msg' #define __deprecated_msg(_msg) __attribute__((__deprecated__(_msg))) ^ In file included from ScoreRuler.cpp:2: In file included from ./util.h:5: In file included from /Library/Frameworks/R.framework/Versions/4.2-arm64/Resources/library/BH/include/boost/math/special_functions/digamma.hpp:20: In file included from /Library/Frameworks/R.framework/Versions/4.2-arm64/Resources/library/BH/include/boost/math/constants/constants.hpp:14: In file included from /Library/Frameworks/R.framework/Versions/4.2-arm64/Resources/library/BH/include/boost/math/tools/convert_from_string.hpp:14: In file included from /Library/Frameworks/R.framework/Versions/4.2-arm64/Resources/library/BH/include/boost/math/tools/lexical_cast.hpp:12: In file included from /Library/Frameworks/R.framework/Versions/4.2-arm64/Resources/library/BH/include/boost/lexical_cast.hpp:32: In file included from /Library/Frameworks/R.framework/Versions/4.2-arm64/Resources/library/BH/include/boost/lexical_cast/try_lexical_convert.hpp:44: In file included from /Library/Frameworks/R.framework/Versions/4.2-arm64/Resources/library/BH/include/boost/lexical_cast/detail/converter_lexical.hpp:54: /Library/Frameworks/R.framework/Versions/4.2-arm64/Resources/library/BH/include/boost/lexical_cast/detail/converter_lexical_streams.hpp:310:21: warning: 'sprintf' is deprecated: This function is provided for compatibility reasons only. Due to security concerns inherent in the design of sprintf(3), it is highly recommended that you use snprintf(3) instead. [-Wdeprecated-declarations] sprintf(begin, ^ /Library/Developer/CommandLineTools/SDKs/MacOSX.sdk/usr/include/stdio.h:188:1: note: 'sprintf' has been explicitly marked deprecated here __deprecated_msg("This function is provided for compatibility reasons only. Due to security concerns inherent in the design of sprintf(3), it is highly recommended that you use snprintf(3) instead.") ^ /Library/Developer/CommandLineTools/SDKs/MacOSX.sdk/usr/include/sys/cdefs.h:215:48: note: expanded from macro '__deprecated_msg' #define __deprecated_msg(_msg) __attribute__((__deprecated__(_msg))) ^ In file included from ScoreRuler.cpp:3: In file included from /Library/Frameworks/R.framework/Versions/4.2-arm64/Resources/library/Rcpp/include/Rcpp.h:27: In file included from /Library/Frameworks/R.framework/Versions/4.2-arm64/Resources/library/Rcpp/include/RcppCommon.h:168: /Library/Frameworks/R.framework/Versions/4.2-arm64/Resources/library/Rcpp/include/Rcpp/internal/r_coerce.h:255:7: warning: 'sprintf' is deprecated: This function is provided for compatibility reasons only. Due to security concerns inherent in the design of sprintf(3), it is highly recommended that you use snprintf(3) instead. [-Wdeprecated-declarations] ::sprintf(buff, "%02x", from); ^ /Library/Developer/CommandLineTools/SDKs/MacOSX.sdk/usr/include/stdio.h:188:1: note: 'sprintf' has been explicitly marked deprecated here __deprecated_msg("This function is provided for compatibility reasons only. Due to security concerns inherent in the design of sprintf(3), it is highly recommended that you use snprintf(3) instead.") ^ /Library/Developer/CommandLineTools/SDKs/MacOSX.sdk/usr/include/sys/cdefs.h:215:48: note: expanded from macro '__deprecated_msg' #define __deprecated_msg(_msg) __attribute__((__deprecated__(_msg))) ^ 6 warnings generated. clang++ -arch arm64 -std=gnu++11 -I"/Library/Frameworks/R.framework/Resources/include" -DNDEBUG -I'/Library/Frameworks/R.framework/Versions/4.2-arm64/Resources/library/Rcpp/include' -I'/Library/Frameworks/R.framework/Versions/4.2-arm64/Resources/library/BH/include' -I/opt/R/arm64/include -fPIC -falign-functions=64 -Wall -g -O2 -c esCalculation.cpp -o esCalculation.o clang++ -arch arm64 -std=gnu++11 -I"/Library/Frameworks/R.framework/Resources/include" -DNDEBUG -I'/Library/Frameworks/R.framework/Versions/4.2-arm64/Resources/library/Rcpp/include' -I'/Library/Frameworks/R.framework/Versions/4.2-arm64/Resources/library/BH/include' -I/opt/R/arm64/include -fPIC -falign-functions=64 -Wall -g -O2 -c fastGSEA.cpp -o fastGSEA.o In file included from fastGSEA.cpp:1: In file included from /Library/Frameworks/R.framework/Versions/4.2-arm64/Resources/library/Rcpp/include/Rcpp.h:27: In file included from /Library/Frameworks/R.framework/Versions/4.2-arm64/Resources/library/Rcpp/include/RcppCommon.h:168: /Library/Frameworks/R.framework/Versions/4.2-arm64/Resources/library/Rcpp/include/Rcpp/internal/r_coerce.h:255:7: warning: 'sprintf' is deprecated: This function is provided for compatibility reasons only. Due to security concerns inherent in the design of sprintf(3), it is highly recommended that you use snprintf(3) instead. [-Wdeprecated-declarations] ::sprintf(buff, "%02x", from); ^ /Library/Developer/CommandLineTools/SDKs/MacOSX.sdk/usr/include/stdio.h:188:1: note: 'sprintf' has been explicitly marked deprecated here __deprecated_msg("This function is provided for compatibility reasons only. Due to security concerns inherent in the design of sprintf(3), it is highly recommended that you use snprintf(3) instead.") ^ /Library/Developer/CommandLineTools/SDKs/MacOSX.sdk/usr/include/sys/cdefs.h:215:48: note: expanded from macro '__deprecated_msg' #define __deprecated_msg(_msg) __attribute__((__deprecated__(_msg))) ^ In file included from fastGSEA.cpp:13: In file included from ./util.h:5: In file included from /Library/Frameworks/R.framework/Versions/4.2-arm64/Resources/library/BH/include/boost/math/special_functions/digamma.hpp:19: In file included from /Library/Frameworks/R.framework/Versions/4.2-arm64/Resources/library/BH/include/boost/math/policies/error_handling.hpp:23: In file included from /Library/Frameworks/R.framework/Versions/4.2-arm64/Resources/library/BH/include/boost/math/tools/throw_exception.hpp:13: In file included from /Library/Frameworks/R.framework/Versions/4.2-arm64/Resources/library/BH/include/boost/throw_exception.hpp:24: /Library/Frameworks/R.framework/Versions/4.2-arm64/Resources/library/BH/include/boost/assert/source_location.hpp:75:14: warning: 'sprintf' is deprecated: This function is provided for compatibility reasons only. Due to security concerns inherent in the design of sprintf(3), it is highly recommended that you use snprintf(3) instead. [-Wdeprecated-declarations] std::sprintf( buffer, ":%ld", static_cast( line() ) ); ^ /Library/Developer/CommandLineTools/SDKs/MacOSX.sdk/usr/include/stdio.h:188:1: note: 'sprintf' has been explicitly marked deprecated here __deprecated_msg("This function is provided for compatibility reasons only. Due to security concerns inherent in the design of sprintf(3), it is highly recommended that you use snprintf(3) instead.") ^ /Library/Developer/CommandLineTools/SDKs/MacOSX.sdk/usr/include/sys/cdefs.h:215:48: note: expanded from macro '__deprecated_msg' #define __deprecated_msg(_msg) __attribute__((__deprecated__(_msg))) ^ In file included from fastGSEA.cpp:13: In file included from ./util.h:5: In file included from /Library/Frameworks/R.framework/Versions/4.2-arm64/Resources/library/BH/include/boost/math/special_functions/digamma.hpp:19: In file included from /Library/Frameworks/R.framework/Versions/4.2-arm64/Resources/library/BH/include/boost/math/policies/error_handling.hpp:23: In file included from /Library/Frameworks/R.framework/Versions/4.2-arm64/Resources/library/BH/include/boost/math/tools/throw_exception.hpp:13: In file included from /Library/Frameworks/R.framework/Versions/4.2-arm64/Resources/library/BH/include/boost/throw_exception.hpp:24: /Library/Frameworks/R.framework/Versions/4.2-arm64/Resources/library/BH/include/boost/assert/source_location.hpp:80:18: warning: 'sprintf' is deprecated: This function is provided for compatibility reasons only. Due to security concerns inherent in the design of sprintf(3), it is highly recommended that you use snprintf(3) instead. [-Wdeprecated-declarations] std::sprintf( buffer, ":%ld", static_cast( column() ) ); ^ /Library/Developer/CommandLineTools/SDKs/MacOSX.sdk/usr/include/stdio.h:188:1: note: 'sprintf' has been explicitly marked deprecated here __deprecated_msg("This function is provided for compatibility reasons only. Due to security concerns inherent in the design of sprintf(3), it is highly recommended that you use snprintf(3) instead.") ^ /Library/Developer/CommandLineTools/SDKs/MacOSX.sdk/usr/include/sys/cdefs.h:215:48: note: expanded from macro '__deprecated_msg' #define __deprecated_msg(_msg) __attribute__((__deprecated__(_msg))) ^ In file included from fastGSEA.cpp:13: In file included from ./util.h:5: In file included from /Library/Frameworks/R.framework/Versions/4.2-arm64/Resources/library/BH/include/boost/math/special_functions/digamma.hpp:20: In file included from /Library/Frameworks/R.framework/Versions/4.2-arm64/Resources/library/BH/include/boost/math/constants/constants.hpp:14: In file included from /Library/Frameworks/R.framework/Versions/4.2-arm64/Resources/library/BH/include/boost/math/tools/convert_from_string.hpp:14: In file included from /Library/Frameworks/R.framework/Versions/4.2-arm64/Resources/library/BH/include/boost/math/tools/lexical_cast.hpp:12: In file included from /Library/Frameworks/R.framework/Versions/4.2-arm64/Resources/library/BH/include/boost/lexical_cast.hpp:32: In file included from /Library/Frameworks/R.framework/Versions/4.2-arm64/Resources/library/BH/include/boost/lexical_cast/try_lexical_convert.hpp:44: In file included from /Library/Frameworks/R.framework/Versions/4.2-arm64/Resources/library/BH/include/boost/lexical_cast/detail/converter_lexical.hpp:54: /Library/Frameworks/R.framework/Versions/4.2-arm64/Resources/library/BH/include/boost/lexical_cast/detail/converter_lexical_streams.hpp:285:21: warning: 'sprintf' is deprecated: This function is provided for compatibility reasons only. Due to security concerns inherent in the design of sprintf(3), it is highly recommended that you use snprintf(3) instead. [-Wdeprecated-declarations] sprintf(begin, ^ /Library/Developer/CommandLineTools/SDKs/MacOSX.sdk/usr/include/stdio.h:188:1: note: 'sprintf' has been explicitly marked deprecated here __deprecated_msg("This function is provided for compatibility reasons only. Due to security concerns inherent in the design of sprintf(3), it is highly recommended that you use snprintf(3) instead.") ^ /Library/Developer/CommandLineTools/SDKs/MacOSX.sdk/usr/include/sys/cdefs.h:215:48: note: expanded from macro '__deprecated_msg' #define __deprecated_msg(_msg) __attribute__((__deprecated__(_msg))) ^ In file included from fastGSEA.cpp:13: In file included from ./util.h:5: In file included from /Library/Frameworks/R.framework/Versions/4.2-arm64/Resources/library/BH/include/boost/math/special_functions/digamma.hpp:20: In file included from /Library/Frameworks/R.framework/Versions/4.2-arm64/Resources/library/BH/include/boost/math/constants/constants.hpp:14: In file included from /Library/Frameworks/R.framework/Versions/4.2-arm64/Resources/library/BH/include/boost/math/tools/convert_from_string.hpp:14: In file included from /Library/Frameworks/R.framework/Versions/4.2-arm64/Resources/library/BH/include/boost/math/tools/lexical_cast.hpp:12: In file included from /Library/Frameworks/R.framework/Versions/4.2-arm64/Resources/library/BH/include/boost/lexical_cast.hpp:32: In file included from /Library/Frameworks/R.framework/Versions/4.2-arm64/Resources/library/BH/include/boost/lexical_cast/try_lexical_convert.hpp:44: In file included from /Library/Frameworks/R.framework/Versions/4.2-arm64/Resources/library/BH/include/boost/lexical_cast/detail/converter_lexical.hpp:54: /Library/Frameworks/R.framework/Versions/4.2-arm64/Resources/library/BH/include/boost/lexical_cast/detail/converter_lexical_streams.hpp:297:21: warning: 'sprintf' is deprecated: This function is provided for compatibility reasons only. Due to security concerns inherent in the design of sprintf(3), it is highly recommended that you use snprintf(3) instead. [-Wdeprecated-declarations] sprintf(begin, ^ /Library/Developer/CommandLineTools/SDKs/MacOSX.sdk/usr/include/stdio.h:188:1: note: 'sprintf' has been explicitly marked deprecated here __deprecated_msg("This function is provided for compatibility reasons only. Due to security concerns inherent in the design of sprintf(3), it is highly recommended that you use snprintf(3) instead.") ^ /Library/Developer/CommandLineTools/SDKs/MacOSX.sdk/usr/include/sys/cdefs.h:215:48: note: expanded from macro '__deprecated_msg' #define __deprecated_msg(_msg) __attribute__((__deprecated__(_msg))) ^ In file included from fastGSEA.cpp:13: In file included from ./util.h:5: In file included from /Library/Frameworks/R.framework/Versions/4.2-arm64/Resources/library/BH/include/boost/math/special_functions/digamma.hpp:20: In file included from /Library/Frameworks/R.framework/Versions/4.2-arm64/Resources/library/BH/include/boost/math/constants/constants.hpp:14: In file included from /Library/Frameworks/R.framework/Versions/4.2-arm64/Resources/library/BH/include/boost/math/tools/convert_from_string.hpp:14: In file included from /Library/Frameworks/R.framework/Versions/4.2-arm64/Resources/library/BH/include/boost/math/tools/lexical_cast.hpp:12: In file included from /Library/Frameworks/R.framework/Versions/4.2-arm64/Resources/library/BH/include/boost/lexical_cast.hpp:32: In file included from /Library/Frameworks/R.framework/Versions/4.2-arm64/Resources/library/BH/include/boost/lexical_cast/try_lexical_convert.hpp:44: In file included from /Library/Frameworks/R.framework/Versions/4.2-arm64/Resources/library/BH/include/boost/lexical_cast/detail/converter_lexical.hpp:54: /Library/Frameworks/R.framework/Versions/4.2-arm64/Resources/library/BH/include/boost/lexical_cast/detail/converter_lexical_streams.hpp:310:21: warning: 'sprintf' is deprecated: This function is provided for compatibility reasons only. Due to security concerns inherent in the design of sprintf(3), it is highly recommended that you use snprintf(3) instead. [-Wdeprecated-declarations] sprintf(begin, ^ /Library/Developer/CommandLineTools/SDKs/MacOSX.sdk/usr/include/stdio.h:188:1: note: 'sprintf' has been explicitly marked deprecated here __deprecated_msg("This function is provided for compatibility reasons only. Due to security concerns inherent in the design of sprintf(3), it is highly recommended that you use snprintf(3) instead.") ^ /Library/Developer/CommandLineTools/SDKs/MacOSX.sdk/usr/include/sys/cdefs.h:215:48: note: expanded from macro '__deprecated_msg' #define __deprecated_msg(_msg) __attribute__((__deprecated__(_msg))) ^ 6 warnings generated. clang++ -arch arm64 -std=gnu++11 -I"/Library/Frameworks/R.framework/Resources/include" -DNDEBUG -I'/Library/Frameworks/R.framework/Versions/4.2-arm64/Resources/library/Rcpp/include' -I'/Library/Frameworks/R.framework/Versions/4.2-arm64/Resources/library/BH/include' -I/opt/R/arm64/include -fPIC -falign-functions=64 -Wall -g -O2 -c fgseaMultilevel.cpp -o fgseaMultilevel.o In file included from fgseaMultilevel.cpp:1: In file included from ./fgseaMultilevel.h:3: In file included from /Library/Frameworks/R.framework/Versions/4.2-arm64/Resources/library/Rcpp/include/Rcpp.h:27: In file included from /Library/Frameworks/R.framework/Versions/4.2-arm64/Resources/library/Rcpp/include/RcppCommon.h:168: /Library/Frameworks/R.framework/Versions/4.2-arm64/Resources/library/Rcpp/include/Rcpp/internal/r_coerce.h:255:7: warning: 'sprintf' is deprecated: This function is provided for compatibility reasons only. Due to security concerns inherent in the design of sprintf(3), it is highly recommended that you use snprintf(3) instead. [-Wdeprecated-declarations] ::sprintf(buff, "%02x", from); ^ /Library/Developer/CommandLineTools/SDKs/MacOSX.sdk/usr/include/stdio.h:188:1: note: 'sprintf' has been explicitly marked deprecated here __deprecated_msg("This function is provided for compatibility reasons only. Due to security concerns inherent in the design of sprintf(3), it is highly recommended that you use snprintf(3) instead.") ^ /Library/Developer/CommandLineTools/SDKs/MacOSX.sdk/usr/include/sys/cdefs.h:215:48: note: expanded from macro '__deprecated_msg' #define __deprecated_msg(_msg) __attribute__((__deprecated__(_msg))) ^ 1 warning generated. clang++ -arch arm64 -std=gnu++11 -I"/Library/Frameworks/R.framework/Resources/include" -DNDEBUG -I'/Library/Frameworks/R.framework/Versions/4.2-arm64/Resources/library/Rcpp/include' -I'/Library/Frameworks/R.framework/Versions/4.2-arm64/Resources/library/BH/include' -I/opt/R/arm64/include -fPIC -falign-functions=64 -Wall -g -O2 -c fgseaMultilevelSupplement.cpp -o fgseaMultilevelSupplement.o In file included from fgseaMultilevelSupplement.cpp:3: In file included from ./util.h:5: In file included from /Library/Frameworks/R.framework/Versions/4.2-arm64/Resources/library/BH/include/boost/math/special_functions/digamma.hpp:19: In file included from /Library/Frameworks/R.framework/Versions/4.2-arm64/Resources/library/BH/include/boost/math/policies/error_handling.hpp:23: In file included from /Library/Frameworks/R.framework/Versions/4.2-arm64/Resources/library/BH/include/boost/math/tools/throw_exception.hpp:13: In file included from /Library/Frameworks/R.framework/Versions/4.2-arm64/Resources/library/BH/include/boost/throw_exception.hpp:24: /Library/Frameworks/R.framework/Versions/4.2-arm64/Resources/library/BH/include/boost/assert/source_location.hpp:75:14: warning: 'sprintf' is deprecated: This function is provided for compatibility reasons only. Due to security concerns inherent in the design of sprintf(3), it is highly recommended that you use snprintf(3) instead. [-Wdeprecated-declarations] std::sprintf( buffer, ":%ld", static_cast( line() ) ); ^ /Library/Developer/CommandLineTools/SDKs/MacOSX.sdk/usr/include/stdio.h:188:1: note: 'sprintf' has been explicitly marked deprecated here __deprecated_msg("This function is provided for compatibility reasons only. Due to security concerns inherent in the design of sprintf(3), it is highly recommended that you use snprintf(3) instead.") ^ /Library/Developer/CommandLineTools/SDKs/MacOSX.sdk/usr/include/sys/cdefs.h:215:48: note: expanded from macro '__deprecated_msg' #define __deprecated_msg(_msg) __attribute__((__deprecated__(_msg))) ^ In file included from fgseaMultilevelSupplement.cpp:3: In file included from ./util.h:5: In file included from /Library/Frameworks/R.framework/Versions/4.2-arm64/Resources/library/BH/include/boost/math/special_functions/digamma.hpp:19: In file included from /Library/Frameworks/R.framework/Versions/4.2-arm64/Resources/library/BH/include/boost/math/policies/error_handling.hpp:23: In file included from /Library/Frameworks/R.framework/Versions/4.2-arm64/Resources/library/BH/include/boost/math/tools/throw_exception.hpp:13: In file included from /Library/Frameworks/R.framework/Versions/4.2-arm64/Resources/library/BH/include/boost/throw_exception.hpp:24: /Library/Frameworks/R.framework/Versions/4.2-arm64/Resources/library/BH/include/boost/assert/source_location.hpp:80:18: warning: 'sprintf' is deprecated: This function is provided for compatibility reasons only. Due to security concerns inherent in the design of sprintf(3), it is highly recommended that you use snprintf(3) instead. [-Wdeprecated-declarations] std::sprintf( buffer, ":%ld", static_cast( column() ) ); ^ /Library/Developer/CommandLineTools/SDKs/MacOSX.sdk/usr/include/stdio.h:188:1: note: 'sprintf' has been explicitly marked deprecated here __deprecated_msg("This function is provided for compatibility reasons only. Due to security concerns inherent in the design of sprintf(3), it is highly recommended that you use snprintf(3) instead.") ^ /Library/Developer/CommandLineTools/SDKs/MacOSX.sdk/usr/include/sys/cdefs.h:215:48: note: expanded from macro '__deprecated_msg' #define __deprecated_msg(_msg) __attribute__((__deprecated__(_msg))) ^ In file included from fgseaMultilevelSupplement.cpp:3: In file included from ./util.h:5: In file included from /Library/Frameworks/R.framework/Versions/4.2-arm64/Resources/library/BH/include/boost/math/special_functions/digamma.hpp:20: In file included from /Library/Frameworks/R.framework/Versions/4.2-arm64/Resources/library/BH/include/boost/math/constants/constants.hpp:14: In file included from /Library/Frameworks/R.framework/Versions/4.2-arm64/Resources/library/BH/include/boost/math/tools/convert_from_string.hpp:14: In file included from /Library/Frameworks/R.framework/Versions/4.2-arm64/Resources/library/BH/include/boost/math/tools/lexical_cast.hpp:12: In file included from /Library/Frameworks/R.framework/Versions/4.2-arm64/Resources/library/BH/include/boost/lexical_cast.hpp:32: In file included from /Library/Frameworks/R.framework/Versions/4.2-arm64/Resources/library/BH/include/boost/lexical_cast/try_lexical_convert.hpp:44: In file included from /Library/Frameworks/R.framework/Versions/4.2-arm64/Resources/library/BH/include/boost/lexical_cast/detail/converter_lexical.hpp:54: /Library/Frameworks/R.framework/Versions/4.2-arm64/Resources/library/BH/include/boost/lexical_cast/detail/converter_lexical_streams.hpp:285:21: warning: 'sprintf' is deprecated: This function is provided for compatibility reasons only. Due to security concerns inherent in the design of sprintf(3), it is highly recommended that you use snprintf(3) instead. [-Wdeprecated-declarations] sprintf(begin, ^ /Library/Developer/CommandLineTools/SDKs/MacOSX.sdk/usr/include/stdio.h:188:1: note: 'sprintf' has been explicitly marked deprecated here __deprecated_msg("This function is provided for compatibility reasons only. Due to security concerns inherent in the design of sprintf(3), it is highly recommended that you use snprintf(3) instead.") ^ /Library/Developer/CommandLineTools/SDKs/MacOSX.sdk/usr/include/sys/cdefs.h:215:48: note: expanded from macro '__deprecated_msg' #define __deprecated_msg(_msg) __attribute__((__deprecated__(_msg))) ^ In file included from fgseaMultilevelSupplement.cpp:3: In file included from ./util.h:5: In file included from /Library/Frameworks/R.framework/Versions/4.2-arm64/Resources/library/BH/include/boost/math/special_functions/digamma.hpp:20: In file included from /Library/Frameworks/R.framework/Versions/4.2-arm64/Resources/library/BH/include/boost/math/constants/constants.hpp:14: In file included from /Library/Frameworks/R.framework/Versions/4.2-arm64/Resources/library/BH/include/boost/math/tools/convert_from_string.hpp:14: In file included from /Library/Frameworks/R.framework/Versions/4.2-arm64/Resources/library/BH/include/boost/math/tools/lexical_cast.hpp:12: In file included from /Library/Frameworks/R.framework/Versions/4.2-arm64/Resources/library/BH/include/boost/lexical_cast.hpp:32: In file included from /Library/Frameworks/R.framework/Versions/4.2-arm64/Resources/library/BH/include/boost/lexical_cast/try_lexical_convert.hpp:44: In file included from /Library/Frameworks/R.framework/Versions/4.2-arm64/Resources/library/BH/include/boost/lexical_cast/detail/converter_lexical.hpp:54: /Library/Frameworks/R.framework/Versions/4.2-arm64/Resources/library/BH/include/boost/lexical_cast/detail/converter_lexical_streams.hpp:297:21: warning: 'sprintf' is deprecated: This function is provided for compatibility reasons only. Due to security concerns inherent in the design of sprintf(3), it is highly recommended that you use snprintf(3) instead. [-Wdeprecated-declarations] sprintf(begin, ^ /Library/Developer/CommandLineTools/SDKs/MacOSX.sdk/usr/include/stdio.h:188:1: note: 'sprintf' has been explicitly marked deprecated here __deprecated_msg("This function is provided for compatibility reasons only. Due to security concerns inherent in the design of sprintf(3), it is highly recommended that you use snprintf(3) instead.") ^ /Library/Developer/CommandLineTools/SDKs/MacOSX.sdk/usr/include/sys/cdefs.h:215:48: note: expanded from macro '__deprecated_msg' #define __deprecated_msg(_msg) __attribute__((__deprecated__(_msg))) ^ In file included from fgseaMultilevelSupplement.cpp:3: In file included from ./util.h:5: In file included from /Library/Frameworks/R.framework/Versions/4.2-arm64/Resources/library/BH/include/boost/math/special_functions/digamma.hpp:20: In file included from /Library/Frameworks/R.framework/Versions/4.2-arm64/Resources/library/BH/include/boost/math/constants/constants.hpp:14: In file included from /Library/Frameworks/R.framework/Versions/4.2-arm64/Resources/library/BH/include/boost/math/tools/convert_from_string.hpp:14: In file included from /Library/Frameworks/R.framework/Versions/4.2-arm64/Resources/library/BH/include/boost/math/tools/lexical_cast.hpp:12: In file included from /Library/Frameworks/R.framework/Versions/4.2-arm64/Resources/library/BH/include/boost/lexical_cast.hpp:32: In file included from /Library/Frameworks/R.framework/Versions/4.2-arm64/Resources/library/BH/include/boost/lexical_cast/try_lexical_convert.hpp:44: In file included from /Library/Frameworks/R.framework/Versions/4.2-arm64/Resources/library/BH/include/boost/lexical_cast/detail/converter_lexical.hpp:54: /Library/Frameworks/R.framework/Versions/4.2-arm64/Resources/library/BH/include/boost/lexical_cast/detail/converter_lexical_streams.hpp:310:21: warning: 'sprintf' is deprecated: This function is provided for compatibility reasons only. Due to security concerns inherent in the design of sprintf(3), it is highly recommended that you use snprintf(3) instead. [-Wdeprecated-declarations] sprintf(begin, ^ /Library/Developer/CommandLineTools/SDKs/MacOSX.sdk/usr/include/stdio.h:188:1: note: 'sprintf' has been explicitly marked deprecated here __deprecated_msg("This function is provided for compatibility reasons only. Due to security concerns inherent in the design of sprintf(3), it is highly recommended that you use snprintf(3) instead.") ^ /Library/Developer/CommandLineTools/SDKs/MacOSX.sdk/usr/include/sys/cdefs.h:215:48: note: expanded from macro '__deprecated_msg' #define __deprecated_msg(_msg) __attribute__((__deprecated__(_msg))) ^ fgseaMultilevelSupplement.cpp:77:16: warning: unused variable 'currentES' [-Wunused-variable] double currentES = calcES(ranks, currentSamples[sampleId]); ^ fgseaMultilevelSupplement.cpp:260:14: warning: unused variable 'fl' [-Wunused-variable] bool fl = false; ^ 7 warnings generated. clang++ -arch arm64 -std=gnu++11 -I"/Library/Frameworks/R.framework/Resources/include" -DNDEBUG -I'/Library/Frameworks/R.framework/Versions/4.2-arm64/Resources/library/Rcpp/include' -I'/Library/Frameworks/R.framework/Versions/4.2-arm64/Resources/library/BH/include' -I/opt/R/arm64/include -fPIC -falign-functions=64 -Wall -g -O2 -c geseca.cpp -o geseca.o In file included from geseca.cpp:1: In file included from ./geseca.h:5: In file included from /Library/Frameworks/R.framework/Versions/4.2-arm64/Resources/library/Rcpp/include/Rcpp.h:27: In file included from /Library/Frameworks/R.framework/Versions/4.2-arm64/Resources/library/Rcpp/include/RcppCommon.h:168: /Library/Frameworks/R.framework/Versions/4.2-arm64/Resources/library/Rcpp/include/Rcpp/internal/r_coerce.h:255:7: warning: 'sprintf' is deprecated: This function is provided for compatibility reasons only. Due to security concerns inherent in the design of sprintf(3), it is highly recommended that you use snprintf(3) instead. [-Wdeprecated-declarations] ::sprintf(buff, "%02x", from); ^ /Library/Developer/CommandLineTools/SDKs/MacOSX.sdk/usr/include/stdio.h:188:1: note: 'sprintf' has been explicitly marked deprecated here __deprecated_msg("This function is provided for compatibility reasons only. Due to security concerns inherent in the design of sprintf(3), it is highly recommended that you use snprintf(3) instead.") ^ /Library/Developer/CommandLineTools/SDKs/MacOSX.sdk/usr/include/sys/cdefs.h:215:48: note: expanded from macro '__deprecated_msg' #define __deprecated_msg(_msg) __attribute__((__deprecated__(_msg))) ^ 1 warning generated. clang++ -arch arm64 -std=gnu++11 -I"/Library/Frameworks/R.framework/Resources/include" -DNDEBUG -I'/Library/Frameworks/R.framework/Versions/4.2-arm64/Resources/library/Rcpp/include' -I'/Library/Frameworks/R.framework/Versions/4.2-arm64/Resources/library/BH/include' -I/opt/R/arm64/include -fPIC -falign-functions=64 -Wall -g -O2 -c util.cpp -o util.o In file included from util.cpp:1: In file included from ./util.h:5: In file included from /Library/Frameworks/R.framework/Versions/4.2-arm64/Resources/library/BH/include/boost/math/special_functions/digamma.hpp:19: In file included from /Library/Frameworks/R.framework/Versions/4.2-arm64/Resources/library/BH/include/boost/math/policies/error_handling.hpp:23: In file included from /Library/Frameworks/R.framework/Versions/4.2-arm64/Resources/library/BH/include/boost/math/tools/throw_exception.hpp:13: In file included from /Library/Frameworks/R.framework/Versions/4.2-arm64/Resources/library/BH/include/boost/throw_exception.hpp:24: /Library/Frameworks/R.framework/Versions/4.2-arm64/Resources/library/BH/include/boost/assert/source_location.hpp:75:14: warning: 'sprintf' is deprecated: This function is provided for compatibility reasons only. Due to security concerns inherent in the design of sprintf(3), it is highly recommended that you use snprintf(3) instead. [-Wdeprecated-declarations] std::sprintf( buffer, ":%ld", static_cast( line() ) ); ^ /Library/Developer/CommandLineTools/SDKs/MacOSX.sdk/usr/include/stdio.h:188:1: note: 'sprintf' has been explicitly marked deprecated here __deprecated_msg("This function is provided for compatibility reasons only. Due to security concerns inherent in the design of sprintf(3), it is highly recommended that you use snprintf(3) instead.") ^ /Library/Developer/CommandLineTools/SDKs/MacOSX.sdk/usr/include/sys/cdefs.h:215:48: note: expanded from macro '__deprecated_msg' #define __deprecated_msg(_msg) __attribute__((__deprecated__(_msg))) ^ In file included from util.cpp:1: In file included from ./util.h:5: In file included from /Library/Frameworks/R.framework/Versions/4.2-arm64/Resources/library/BH/include/boost/math/special_functions/digamma.hpp:19: In file included from /Library/Frameworks/R.framework/Versions/4.2-arm64/Resources/library/BH/include/boost/math/policies/error_handling.hpp:23: In file included from /Library/Frameworks/R.framework/Versions/4.2-arm64/Resources/library/BH/include/boost/math/tools/throw_exception.hpp:13: In file included from /Library/Frameworks/R.framework/Versions/4.2-arm64/Resources/library/BH/include/boost/throw_exception.hpp:24: /Library/Frameworks/R.framework/Versions/4.2-arm64/Resources/library/BH/include/boost/assert/source_location.hpp:80:18: warning: 'sprintf' is deprecated: This function is provided for compatibility reasons only. Due to security concerns inherent in the design of sprintf(3), it is highly recommended that you use snprintf(3) instead. [-Wdeprecated-declarations] std::sprintf( buffer, ":%ld", static_cast( column() ) ); ^ /Library/Developer/CommandLineTools/SDKs/MacOSX.sdk/usr/include/stdio.h:188:1: note: 'sprintf' has been explicitly marked deprecated here __deprecated_msg("This function is provided for compatibility reasons only. Due to security concerns inherent in the design of sprintf(3), it is highly recommended that you use snprintf(3) instead.") ^ /Library/Developer/CommandLineTools/SDKs/MacOSX.sdk/usr/include/sys/cdefs.h:215:48: note: expanded from macro '__deprecated_msg' #define __deprecated_msg(_msg) __attribute__((__deprecated__(_msg))) ^ In file included from util.cpp:1: In file included from ./util.h:5: In file included from /Library/Frameworks/R.framework/Versions/4.2-arm64/Resources/library/BH/include/boost/math/special_functions/digamma.hpp:20: In file included from /Library/Frameworks/R.framework/Versions/4.2-arm64/Resources/library/BH/include/boost/math/constants/constants.hpp:14: In file included from /Library/Frameworks/R.framework/Versions/4.2-arm64/Resources/library/BH/include/boost/math/tools/convert_from_string.hpp:14: In file included from /Library/Frameworks/R.framework/Versions/4.2-arm64/Resources/library/BH/include/boost/math/tools/lexical_cast.hpp:12: In file included from /Library/Frameworks/R.framework/Versions/4.2-arm64/Resources/library/BH/include/boost/lexical_cast.hpp:32: In file included from /Library/Frameworks/R.framework/Versions/4.2-arm64/Resources/library/BH/include/boost/lexical_cast/try_lexical_convert.hpp:44: In file included from /Library/Frameworks/R.framework/Versions/4.2-arm64/Resources/library/BH/include/boost/lexical_cast/detail/converter_lexical.hpp:54: /Library/Frameworks/R.framework/Versions/4.2-arm64/Resources/library/BH/include/boost/lexical_cast/detail/converter_lexical_streams.hpp:285:21: warning: 'sprintf' is deprecated: This function is provided for compatibility reasons only. Due to security concerns inherent in the design of sprintf(3), it is highly recommended that you use snprintf(3) instead. [-Wdeprecated-declarations] sprintf(begin, ^ /Library/Developer/CommandLineTools/SDKs/MacOSX.sdk/usr/include/stdio.h:188:1: note: 'sprintf' has been explicitly marked deprecated here __deprecated_msg("This function is provided for compatibility reasons only. Due to security concerns inherent in the design of sprintf(3), it is highly recommended that you use snprintf(3) instead.") ^ /Library/Developer/CommandLineTools/SDKs/MacOSX.sdk/usr/include/sys/cdefs.h:215:48: note: expanded from macro '__deprecated_msg' #define __deprecated_msg(_msg) __attribute__((__deprecated__(_msg))) ^ In file included from util.cpp:1: In file included from ./util.h:5: In file included from /Library/Frameworks/R.framework/Versions/4.2-arm64/Resources/library/BH/include/boost/math/special_functions/digamma.hpp:20: In file included from /Library/Frameworks/R.framework/Versions/4.2-arm64/Resources/library/BH/include/boost/math/constants/constants.hpp:14: In file included from /Library/Frameworks/R.framework/Versions/4.2-arm64/Resources/library/BH/include/boost/math/tools/convert_from_string.hpp:14: In file included from /Library/Frameworks/R.framework/Versions/4.2-arm64/Resources/library/BH/include/boost/math/tools/lexical_cast.hpp:12: In file included from /Library/Frameworks/R.framework/Versions/4.2-arm64/Resources/library/BH/include/boost/lexical_cast.hpp:32: In file included from /Library/Frameworks/R.framework/Versions/4.2-arm64/Resources/library/BH/include/boost/lexical_cast/try_lexical_convert.hpp:44: In file included from /Library/Frameworks/R.framework/Versions/4.2-arm64/Resources/library/BH/include/boost/lexical_cast/detail/converter_lexical.hpp:54: /Library/Frameworks/R.framework/Versions/4.2-arm64/Resources/library/BH/include/boost/lexical_cast/detail/converter_lexical_streams.hpp:297:21: warning: 'sprintf' is deprecated: This function is provided for compatibility reasons only. Due to security concerns inherent in the design of sprintf(3), it is highly recommended that you use snprintf(3) instead. [-Wdeprecated-declarations] sprintf(begin, ^ /Library/Developer/CommandLineTools/SDKs/MacOSX.sdk/usr/include/stdio.h:188:1: note: 'sprintf' has been explicitly marked deprecated here __deprecated_msg("This function is provided for compatibility reasons only. Due to security concerns inherent in the design of sprintf(3), it is highly recommended that you use snprintf(3) instead.") ^ /Library/Developer/CommandLineTools/SDKs/MacOSX.sdk/usr/include/sys/cdefs.h:215:48: note: expanded from macro '__deprecated_msg' #define __deprecated_msg(_msg) __attribute__((__deprecated__(_msg))) ^ In file included from util.cpp:1: In file included from ./util.h:5: In file included from /Library/Frameworks/R.framework/Versions/4.2-arm64/Resources/library/BH/include/boost/math/special_functions/digamma.hpp:20: In file included from /Library/Frameworks/R.framework/Versions/4.2-arm64/Resources/library/BH/include/boost/math/constants/constants.hpp:14: In file included from /Library/Frameworks/R.framework/Versions/4.2-arm64/Resources/library/BH/include/boost/math/tools/convert_from_string.hpp:14: In file included from /Library/Frameworks/R.framework/Versions/4.2-arm64/Resources/library/BH/include/boost/math/tools/lexical_cast.hpp:12: In file included from /Library/Frameworks/R.framework/Versions/4.2-arm64/Resources/library/BH/include/boost/lexical_cast.hpp:32: In file included from /Library/Frameworks/R.framework/Versions/4.2-arm64/Resources/library/BH/include/boost/lexical_cast/try_lexical_convert.hpp:44: In file included from /Library/Frameworks/R.framework/Versions/4.2-arm64/Resources/library/BH/include/boost/lexical_cast/detail/converter_lexical.hpp:54: /Library/Frameworks/R.framework/Versions/4.2-arm64/Resources/library/BH/include/boost/lexical_cast/detail/converter_lexical_streams.hpp:310:21: warning: 'sprintf' is deprecated: This function is provided for compatibility reasons only. Due to security concerns inherent in the design of sprintf(3), it is highly recommended that you use snprintf(3) instead. [-Wdeprecated-declarations] sprintf(begin, ^ /Library/Developer/CommandLineTools/SDKs/MacOSX.sdk/usr/include/stdio.h:188:1: note: 'sprintf' has been explicitly marked deprecated here __deprecated_msg("This function is provided for compatibility reasons only. Due to security concerns inherent in the design of sprintf(3), it is highly recommended that you use snprintf(3) instead.") ^ /Library/Developer/CommandLineTools/SDKs/MacOSX.sdk/usr/include/sys/cdefs.h:215:48: note: expanded from macro '__deprecated_msg' #define __deprecated_msg(_msg) __attribute__((__deprecated__(_msg))) ^ 5 warnings generated. clang++ -arch arm64 -std=gnu++11 -dynamiclib -Wl,-headerpad_max_install_names -undefined dynamic_lookup -single_module -multiply_defined suppress -L/Library/Frameworks/R.framework/Resources/lib -L/opt/R/arm64/lib -o fgsea.so RcppExports.o ScoreCalculation.o ScoreRuler.o esCalculation.o fastGSEA.o fgseaMultilevel.o fgseaMultilevelSupplement.o geseca.o util.o -F/Library/Frameworks/R.framework/.. -framework R -Wl,-framework -Wl,CoreFoundation ld: warning: -undefined dynamic_lookup may not work with chained fixups installing to /Library/Frameworks/R.framework/Versions/4.2-arm64/Resources/library/00LOCK-fgsea/00new/fgsea/libs ** R ** data *** moving datasets to lazyload DB ** inst ** byte-compile and prepare package for lazy loading ** help *** installing help indices ** building package indices ** installing vignettes ** testing if installed package can be loaded from temporary location ** checking absolute paths in shared objects and dynamic libraries ** testing if installed package can be loaded from final location ** testing if installed package keeps a record of temporary installation path * DONE (fgsea)