Package: fabia Version: 2.44.0 Command: /Library/Frameworks/R.framework/Resources/bin/R CMD INSTALL fabia StartedAt: 2023-04-16 14:21:03 -0400 (Sun, 16 Apr 2023) EndedAt: 2023-04-16 14:21:19 -0400 (Sun, 16 Apr 2023) EllapsedTime: 16.4 seconds RetCode: 0 Status: OK