Package: fabia Version: 2.44.0 Command: rm -rf fabia.buildbin-libdir && mkdir fabia.buildbin-libdir && /Users/biocbuild/BBS/utils/build-universal.sh fabia_2.44.0.tar.gz /Library/Frameworks/R.framework/Resources/bin/R fabia.buildbin-libdir StartedAt: 2023-04-18 15:42:00 -0400 (Tue, 18 Apr 2023) EndedAt: 2023-04-18 15:42:29 -0400 (Tue, 18 Apr 2023) EllapsedTime: 29.5 seconds RetCode: 0 Status: OK PackageFile: fabia_2.44.0.tgz PackageFileSize: 1.129 MiB