Package: ensemblVEP Version: 1.40.0 Command: /Library/Frameworks/R.framework/Resources/bin/R CMD INSTALL ensemblVEP StartedAt: 2023-04-16 17:24:40 -0400 (Sun, 16 Apr 2023) EndedAt: 2023-04-16 17:25:57 -0400 (Sun, 16 Apr 2023) EllapsedTime: 77.0 seconds RetCode: 0 Status: OK