Package: eisaR Version: 1.10.0 Command: /Library/Frameworks/R.framework/Resources/bin/R CMD build --keep-empty-dirs --no-resave-data eisaR StartedAt: 2023-04-17 05:05:24 -0400 (Mon, 17 Apr 2023) EndedAt: 2023-04-17 05:06:59 -0400 (Mon, 17 Apr 2023) EllapsedTime: 95.4 seconds RetCode: 0 Status: OK PackageFile: eisaR_1.10.0.tar.gz PackageFileSize: 1.631 MiB