Package: eisaR Version: 1.10.0 Command: rm -rf eisaR.buildbin-libdir && mkdir eisaR.buildbin-libdir && /Users/biocbuild/BBS/utils/build-universal.sh eisaR_1.10.0.tar.gz /Library/Frameworks/R.framework/Resources/bin/R eisaR.buildbin-libdir StartedAt: 2023-04-18 15:27:53 -0400 (Tue, 18 Apr 2023) EndedAt: 2023-04-18 15:28:44 -0400 (Tue, 18 Apr 2023) EllapsedTime: 50.9 seconds RetCode: 0 Status: OK PackageFile: eisaR_1.10.0.tgz PackageFileSize: 1.657 MiB