Package: diffuStats Version: 1.18.0 Command: rm -rf diffuStats.buildbin-libdir && mkdir diffuStats.buildbin-libdir && /Users/biocbuild/BBS/utils/build-universal.sh diffuStats_1.18.0.tar.gz /Library/Frameworks/R.framework/Resources/bin/R diffuStats.buildbin-libdir StartedAt: 2023-04-18 15:15:48 -0400 (Tue, 18 Apr 2023) EndedAt: 2023-04-18 15:16:58 -0400 (Tue, 18 Apr 2023) EllapsedTime: 69.3 seconds RetCode: 0 Status: OK PackageFile: diffuStats_1.18.0.tgz PackageFileSize: 1.373 MiB