Package: ddCt Version: 1.54.0 Command: rm -rf ddCt.buildbin-libdir && mkdir ddCt.buildbin-libdir && /Users/biocbuild/BBS/utils/build-universal.sh ddCt_1.54.0.tar.gz /Library/Frameworks/R.framework/Resources/bin/R ddCt.buildbin-libdir StartedAt: 2023-04-18 15:05:14 -0400 (Tue, 18 Apr 2023) EndedAt: 2023-04-18 15:05:31 -0400 (Tue, 18 Apr 2023) EllapsedTime: 17.4 seconds RetCode: 0 Status: OK PackageFile: ddCt_1.54.0.tgz PackageFileSize: 1020 KiB