Package: ctsGE Version: 1.24.0 Command: rm -rf ctsGE.buildbin-libdir && mkdir ctsGE.buildbin-libdir && /Users/biocbuild/BBS/utils/build-universal.sh ctsGE_1.24.0.tar.gz /Library/Frameworks/R.framework/Resources/bin/R ctsGE.buildbin-libdir StartedAt: 2023-04-18 14:59:16 -0400 (Tue, 18 Apr 2023) EndedAt: 2023-04-18 14:59:32 -0400 (Tue, 18 Apr 2023) EllapsedTime: 16.2 seconds RetCode: 0 Status: OK PackageFile: ctsGE_1.24.0.tgz PackageFileSize: 1.1 MiB