Package: cogena Version: 1.32.0 Command: /Library/Frameworks/R.framework/Resources/bin/R CMD INSTALL cogena StartedAt: 2023-04-16 15:40:56 -0400 (Sun, 16 Apr 2023) EndedAt: 2023-04-16 15:41:24 -0400 (Sun, 16 Apr 2023) EllapsedTime: 28.4 seconds RetCode: 0 Status: OK