Package: cogena Version: 1.32.0 Command: /Library/Frameworks/R.framework/Resources/bin/R CMD build --keep-empty-dirs --no-resave-data cogena StartedAt: 2023-04-17 01:01:50 -0400 (Mon, 17 Apr 2023) EndedAt: 2023-04-17 01:05:25 -0400 (Mon, 17 Apr 2023) EllapsedTime: 215.5 seconds RetCode: 0 Status: OK PackageFile: cogena_1.32.0.tar.gz PackageFileSize: 7.047 MiB