Package: clustifyr
Version: 1.10.0
Command: /Library/Frameworks/R.framework/Resources/bin/R CMD INSTALL clustifyr
StartedAt: 2023-04-16 15:39:59 -0400 (Sun, 16 Apr 2023)
EndedAt: 2023-04-16 15:40:46 -0400 (Sun, 16 Apr 2023)
EllapsedTime: 46.3 seconds
RetCode: 0
Status: OK