Package: censcyt Version: 1.6.1 Command: /Library/Frameworks/R.framework/Resources/bin/R CMD INSTALL censcyt StartedAt: 2023-04-16 18:44:40 -0400 (Sun, 16 Apr 2023) EndedAt: 2023-04-16 18:45:25 -0400 (Sun, 16 Apr 2023) EllapsedTime: 44.7 seconds RetCode: 0 Status: OK