Package: cTRAP Version: 1.16.0 Command: rm -rf cTRAP.buildbin-libdir && mkdir cTRAP.buildbin-libdir && /Users/biocbuild/BBS/utils/build-universal.sh cTRAP_1.16.0.tar.gz /Library/Frameworks/R.framework/Resources/bin/R cTRAP.buildbin-libdir StartedAt: 2023-04-18 14:59:08 -0400 (Tue, 18 Apr 2023) EndedAt: 2023-04-18 15:00:30 -0400 (Tue, 18 Apr 2023) EllapsedTime: 81.6 seconds RetCode: 0 Status: OK PackageFile: cTRAP_1.16.0.tgz PackageFileSize: 6.272 MiB