Package: bugsigdbr Version: 1.4.3 Command: /Library/Frameworks/R.framework/Resources/bin/R CMD build --keep-empty-dirs --no-resave-data bugsigdbr StartedAt: 2023-04-16 22:37:41 -0400 (Sun, 16 Apr 2023) EndedAt: 2023-04-16 22:38:04 -0400 (Sun, 16 Apr 2023) EllapsedTime: 22.2 seconds RetCode: 0 Status: OK PackageFile: bugsigdbr_1.4.3.tar.gz PackageFileSize: 311.5 KiB