Package: bugsigdbr Version: 1.4.3 Command: rm -rf bugsigdbr.buildbin-libdir && mkdir bugsigdbr.buildbin-libdir && /Users/biocbuild/BBS/utils/build-universal.sh bugsigdbr_1.4.3.tar.gz /Library/Frameworks/R.framework/Resources/bin/R bugsigdbr.buildbin-libdir StartedAt: 2023-04-18 14:08:14 -0400 (Tue, 18 Apr 2023) EndedAt: 2023-04-18 14:08:21 -0400 (Tue, 18 Apr 2023) EllapsedTime: 7.8 seconds RetCode: 0 Status: OK PackageFile: bugsigdbr_1.4.3.tgz PackageFileSize: 338.8 KiB