Package: biotmle Version: 1.22.0 Command: rm -rf biotmle.buildbin-libdir && mkdir biotmle.buildbin-libdir && /Users/biocbuild/BBS/utils/build-universal.sh biotmle_1.22.0.tar.gz /Library/Frameworks/R.framework/Resources/bin/R biotmle.buildbin-libdir StartedAt: 2023-04-18 14:01:22 -0400 (Tue, 18 Apr 2023) EndedAt: 2023-04-18 14:02:24 -0400 (Tue, 18 Apr 2023) EllapsedTime: 62.8 seconds RetCode: 0 Status: OK PackageFile: biotmle_1.22.0.tgz PackageFileSize: 363.1 KiB