Package: biodbLipidmaps Version: 1.4.1 Command: /Library/Frameworks/R.framework/Resources/bin/R CMD build --keep-empty-dirs --no-resave-data biodbLipidmaps StartedAt: 2023-04-16 21:56:16 -0400 (Sun, 16 Apr 2023) EndedAt: 2023-04-16 21:56:35 -0400 (Sun, 16 Apr 2023) EllapsedTime: 19.6 seconds RetCode: 0 Status: OK PackageFile: biodbLipidmaps_1.4.1.tar.gz PackageFileSize: 289.7 KiB