Package: barcodetrackR Version: 1.6.0 Command: /Library/Frameworks/R.framework/Resources/bin/R CMD build --keep-empty-dirs --no-resave-data barcodetrackR StartedAt: 2023-04-16 20:45:59 -0400 (Sun, 16 Apr 2023) EndedAt: 2023-04-16 20:47:21 -0400 (Sun, 16 Apr 2023) EllapsedTime: 82.0 seconds RetCode: 0 Status: OK PackageFile: barcodetrackR_1.6.0.tar.gz PackageFileSize: 2.929 MiB