Package: airpart Version: 1.6.0 Command: /Library/Frameworks/R.framework/Resources/bin/R CMD build --keep-empty-dirs --no-resave-data airpart StartedAt: 2023-04-16 19:28:26 -0400 (Sun, 16 Apr 2023) EndedAt: 2023-04-16 19:29:54 -0400 (Sun, 16 Apr 2023) EllapsedTime: 88.6 seconds RetCode: 0 Status: OK PackageFile: airpart_1.6.0.tar.gz PackageFileSize: 1.115 MiB