Package: airpart Version: 1.6.0 Command: rm -rf airpart.buildbin-libdir && mkdir airpart.buildbin-libdir && /Users/biocbuild/BBS/utils/build-universal.sh airpart_1.6.0.tar.gz /Library/Frameworks/R.framework/Resources/bin/R airpart.buildbin-libdir StartedAt: 2023-04-18 13:30:45 -0400 (Tue, 18 Apr 2023) EndedAt: 2023-04-18 13:31:58 -0400 (Tue, 18 Apr 2023) EllapsedTime: 73.2 seconds RetCode: 0 Status: OK PackageFile: airpart_1.6.0.tgz PackageFileSize: 1.205 MiB