Package: UCell Version: 2.2.0 Command: /Library/Frameworks/R.framework/Resources/bin/R CMD INSTALL UCell StartedAt: 2023-04-16 17:27:56 -0400 (Sun, 16 Apr 2023) EndedAt: 2023-04-16 17:28:30 -0400 (Sun, 16 Apr 2023) EllapsedTime: 33.9 seconds RetCode: 0 Status: OK