git_url: https://git.bioconductor.org/packages/TypeInfo git_branch: RELEASE_3_16 git_last_commit: 005a3cd git_last_commit_date: 2022-11-01 10:41:29 -0400 (Tue, 01 Nov 2022) Package: TypeInfo Version: 1.64.0 Maintainer: Duncan Temple Lang MaintainerEmail: duncan at wald.ucdavis.edu