Package: Travel
Version: 1.6.0
Command: /Library/Frameworks/R.framework/Resources/bin/R CMD INSTALL Travel
StartedAt: 2023-04-16 14:10:08 -0400 (Sun, 16 Apr 2023)
EndedAt: 2023-04-16 14:11:14 -0400 (Sun, 16 Apr 2023)
EllapsedTime: 65.7 seconds
RetCode: 1
Status: ERROR