Package: Travel Version: 1.6.0 Command: /Library/Frameworks/R.framework/Resources/bin/R CMD build --keep-empty-dirs --no-resave-data Travel StartedAt: 2023-04-18 11:36:08 -0400 (Tue, 18 Apr 2023) EndedAt: 2023-04-18 11:37:00 -0400 (Tue, 18 Apr 2023) EllapsedTime: 51.8 seconds RetCode: 1 Status: ERROR PackageFile: None PackageFileSize: NA