Package: TissueEnrich Version: 1.18.0 Command: /Library/Frameworks/R.framework/Resources/bin/R CMD build --keep-empty-dirs --no-resave-data TissueEnrich StartedAt: 2023-04-18 10:55:43 -0400 (Tue, 18 Apr 2023) EndedAt: 2023-04-18 10:56:53 -0400 (Tue, 18 Apr 2023) EllapsedTime: 70.1 seconds RetCode: 0 Status: OK PackageFile: TissueEnrich_1.18.0.tar.gz PackageFileSize: 3.499 MiB