Package: TissueEnrich Version: 1.18.0 Command: rm -rf TissueEnrich.buildbin-libdir && mkdir TissueEnrich.buildbin-libdir && /Users/biocbuild/BBS/utils/build-universal.sh TissueEnrich_1.18.0.tar.gz /Library/Frameworks/R.framework/Resources/bin/R TissueEnrich.buildbin-libdir StartedAt: 2023-04-18 20:09:00 -0400 (Tue, 18 Apr 2023) EndedAt: 2023-04-18 20:10:00 -0400 (Tue, 18 Apr 2023) EllapsedTime: 60.5 seconds RetCode: 0 Status: OK PackageFile: TissueEnrich_1.18.0.tgz PackageFileSize: 3.527 MiB