Package: TimiRGeN Version: 1.8.0 Command: /Library/Frameworks/R.framework/Resources/bin/R CMD INSTALL TimiRGeN StartedAt: 2023-04-16 16:10:45 -0400 (Sun, 16 Apr 2023) EndedAt: 2023-04-16 16:28:39 -0400 (Sun, 16 Apr 2023) EllapsedTime: 1074.1 seconds RetCode: 0 Status: OK