Package: TimiRGeN Version: 1.8.0 Command: /Library/Frameworks/R.framework/Resources/bin/R CMD build --keep-empty-dirs --no-resave-data TimiRGeN StartedAt: 2023-04-18 10:52:30 -0400 (Tue, 18 Apr 2023) EndedAt: 2023-04-18 10:54:28 -0400 (Tue, 18 Apr 2023) EllapsedTime: 118.4 seconds RetCode: 0 Status: OK PackageFile: TimiRGeN_1.8.0.tar.gz PackageFileSize: 4.321 MiB