Package: TimiRGeN Version: 1.8.0 Command: rm -rf TimiRGeN.buildbin-libdir && mkdir TimiRGeN.buildbin-libdir && /Users/biocbuild/BBS/utils/build-universal.sh TimiRGeN_1.8.0.tar.gz /Library/Frameworks/R.framework/Resources/bin/R TimiRGeN.buildbin-libdir StartedAt: 2023-04-18 20:08:36 -0400 (Tue, 18 Apr 2023) EndedAt: 2023-04-18 20:28:56 -0400 (Tue, 18 Apr 2023) EllapsedTime: 1219.9 seconds RetCode: 0 Status: OK PackageFile: TimiRGeN_1.8.0.tgz PackageFileSize: 2.827 MiB