Package: TargetScore Version: 1.36.0 Command: /Library/Frameworks/R.framework/Resources/bin/R CMD build --keep-empty-dirs --no-resave-data TargetScore StartedAt: 2023-04-18 10:17:20 -0400 (Tue, 18 Apr 2023) EndedAt: 2023-04-18 10:17:46 -0400 (Tue, 18 Apr 2023) EllapsedTime: 26.0 seconds RetCode: 0 Status: OK PackageFile: TargetScore_1.36.0.tar.gz PackageFileSize: 1.232 MiB