git_url: https://git.bioconductor.org/packages/TRONCO git_branch: RELEASE_3_16 git_last_commit: 5014798 git_last_commit_date: 2022-11-01 11:10:57 -0400 (Tue, 01 Nov 2022) Package: TRONCO Version: 2.30.0 Maintainer: Luca De Sano MaintainerEmail: luca.desano at gmail.com