Package: TMixClust Version: 1.20.0 Command: /Library/Frameworks/R.framework/Resources/bin/R CMD INSTALL TMixClust StartedAt: 2023-04-16 15:07:52 -0400 (Sun, 16 Apr 2023) EndedAt: 2023-04-16 15:08:02 -0400 (Sun, 16 Apr 2023) EllapsedTime: 10.1 seconds RetCode: 0 Status: OK