Package: TMixClust Version: 1.20.0 Command: rm -rf TMixClust.buildbin-libdir && mkdir TMixClust.buildbin-libdir && /Users/biocbuild/BBS/utils/build-universal.sh TMixClust_1.20.0.tar.gz /Library/Frameworks/R.framework/Resources/bin/R TMixClust.buildbin-libdir StartedAt: 2023-04-18 20:09:29 -0400 (Tue, 18 Apr 2023) EndedAt: 2023-04-18 20:09:43 -0400 (Tue, 18 Apr 2023) EllapsedTime: 13.2 seconds RetCode: 0 Status: OK PackageFile: TMixClust_1.20.0.tgz PackageFileSize: 741.5 KiB