Package: TIN
Version: 1.30.0
Command: /Library/Frameworks/R.framework/Resources/bin/R CMD INSTALL TIN
StartedAt: 2023-04-16 17:25:57 -0400 (Sun, 16 Apr 2023)
EndedAt: 2023-04-16 17:26:37 -0400 (Sun, 16 Apr 2023)
EllapsedTime: 39.6 seconds
RetCode: 0
Status: OK