Package: TFutils Version: 1.18.0 Command: rm -rf TFutils.buildbin-libdir && mkdir TFutils.buildbin-libdir && /Users/biocbuild/BBS/utils/build-universal.sh TFutils_1.18.0.tar.gz /Library/Frameworks/R.framework/Resources/bin/R TFutils.buildbin-libdir StartedAt: 2023-04-18 20:06:45 -0400 (Tue, 18 Apr 2023) EndedAt: 2023-04-18 20:08:13 -0400 (Tue, 18 Apr 2023) EllapsedTime: 87.4 seconds RetCode: 0 Status: OK PackageFile: TFutils_1.18.0.tgz PackageFileSize: 6.302 MiB