Package: TFHAZ
Version: 1.20.0
Command: rm -rf TFHAZ.buildbin-libdir && mkdir TFHAZ.buildbin-libdir && /Users/biocbuild/BBS/utils/build-universal.sh TFHAZ_1.20.0.tar.gz /Library/Frameworks/R.framework/Resources/bin/R TFHAZ.buildbin-libdir
StartedAt: 2023-04-18 20:06:36 -0400 (Tue, 18 Apr 2023)
EndedAt: 2023-04-18 20:08:21 -0400 (Tue, 18 Apr 2023)
EllapsedTime: 104.3 seconds
RetCode: 0
Status: OK
PackageFile: TFHAZ_1.20.0.tgz
PackageFileSize: 3.368 <A href="http://en.wikipedia.org/wiki/MiB" target="_blank">MiB</A>