Package: TFARM Version: 1.20.0 Command: /Library/Frameworks/R.framework/Resources/bin/R CMD INSTALL TFARM StartedAt: 2023-04-16 14:41:24 -0400 (Sun, 16 Apr 2023) EndedAt: 2023-04-16 14:41:56 -0400 (Sun, 16 Apr 2023) EllapsedTime: 32.8 seconds RetCode: 0 Status: OK