Package: TFARM Version: 1.20.0 Command: rm -rf TFARM.buildbin-libdir && mkdir TFARM.buildbin-libdir && /Users/biocbuild/BBS/utils/build-universal.sh TFARM_1.20.0.tar.gz /Library/Frameworks/R.framework/Resources/bin/R TFARM.buildbin-libdir StartedAt: 2023-04-18 20:06:10 -0400 (Tue, 18 Apr 2023) EndedAt: 2023-04-18 20:06:59 -0400 (Tue, 18 Apr 2023) EllapsedTime: 49.0 seconds RetCode: 0 Status: OK PackageFile: TFARM_1.20.0.tgz PackageFileSize: 533.3 KiB