Package: TADCompare Version: 1.8.0 Command: /Library/Frameworks/R.framework/Resources/bin/R CMD build --keep-empty-dirs --no-resave-data TADCompare StartedAt: 2023-04-18 10:13:10 -0400 (Tue, 18 Apr 2023) EndedAt: 2023-04-18 10:16:12 -0400 (Tue, 18 Apr 2023) EllapsedTime: 181.8 seconds RetCode: 0 Status: OK PackageFile: TADCompare_1.8.0.tar.gz PackageFileSize: 4.042 MiB