Package: SubCellBarCode Version: 1.14.0 Command: /Library/Frameworks/R.framework/Resources/bin/R CMD build --keep-empty-dirs --no-resave-data SubCellBarCode StartedAt: 2023-04-18 09:42:57 -0400 (Tue, 18 Apr 2023) EndedAt: 2023-04-18 09:48:09 -0400 (Tue, 18 Apr 2023) EllapsedTime: 312.5 seconds RetCode: 0 Status: OK PackageFile: SubCellBarCode_1.14.0.tar.gz PackageFileSize: 2.16 MiB